BEGIN:VCALENDAR
VERSION:2.0
PRODID:icalendar-ruby
CALSCALE:GREGORIAN
METHOD:PUBLISH
BEGIN:VEVENT
DTSTAMP:20260424T144029Z
UID:112-672373@cedarviewchurch.com
DTSTART:20260923T223000Z
DTEND:20260924T000000Z
CLASS:PUBLIC
CREATED:20260424T101216
DESCRIPTION:Join Pastor Vanessa Wednesday evenings in the Ministry Center f
 rom 6:30-8:00pm as she takes a closer look at the Mosaic Tabernacle and ho
 w it foreshadows drawing closer to God.
LAST-MODIFIED:20260424T101216
LOCATION:20 Cedar Street
SUMMARY:Bible Study
URL;VALUE=URI:https://www.cedarviewchurch.com/events/bible-study--112/2026-
 09-23
ATTACH;FILENAME=Bible-Study-Graphic.jpg;FMTTYPE=image/jpeg:https://dq5pwpg1
 q8ru0.cloudfront.net/2026/04/09/16/24/30/0ac2a7ff-1e5f-49d6-b7d9-27c306fd8
 59c/Bible-Study-Graphic.jpg
END:VEVENT
END:VCALENDAR
